BEGIN:VCALENDAR
VERSION:2.0
PRODID:icalendar-ruby
CALSCALE:GREGORIAN
METHOD:PUBLISH
BEGIN:VEVENT
DTSTAMP:20260423T235013Z
UID:158-864810@centennialbaptistchurch.com
DTSTART:20261105T010000Z
DTEND:20261105T020000Z
CLASS:PUBLIC
CREATED:20260423T180502
DESCRIPTION:
LAST-MODIFIED:20260423T180502
LOCATION:
SUMMARY:Choir
URL;VALUE=URI:https://www.centennialbaptistchurch.com/events/choir/2026-11-
 04
END:VEVENT
END:VCALENDAR
