BEGIN:VCALENDAR
VERSION:2.0
PRODID:icalendar-ruby
CALSCALE:GREGORIAN
METHOD:PUBLISH
BEGIN:VEVENT
DTSTAMP:20260424T131417Z
UID:158-866312@centennialbaptistchurch.com
DTSTART:20261022T000000Z
DTEND:20261022T010000Z
CLASS:PUBLIC
CREATED:20260424T062648
DESCRIPTION:
LAST-MODIFIED:20260424T062648
LOCATION:
SUMMARY:Choir
URL;VALUE=URI:https://www.centennialbaptistchurch.com/events/choir/2026-10-
 21
END:VEVENT
END:VCALENDAR
