BEGIN:VCALENDAR
VERSION:2.0
PRODID:icalendar-ruby
CALSCALE:GREGORIAN
METHOD:PUBLISH
BEGIN:VEVENT
DTSTAMP:20260423T193019Z
UID:158-863304@centennialbaptistchurch.com
DTSTART:20261015T000000Z
DTEND:20261015T010000Z
CLASS:PUBLIC
CREATED:20260423T121434
DESCRIPTION:
LAST-MODIFIED:20260423T121434
LOCATION:
SUMMARY:Choir
URL;VALUE=URI:https://www.centennialbaptistchurch.com/events/choir/2026-10-
 14
END:VEVENT
END:VCALENDAR
