BEGIN:VCALENDAR
VERSION:2.0
PRODID:icalendar-ruby
CALSCALE:GREGORIAN
METHOD:PUBLISH
BEGIN:VEVENT
DTSTAMP:20260423T174333Z
UID:158-863303@centennialbaptistchurch.com
DTSTART:20261008T000000Z
DTEND:20261008T010000Z
CLASS:PUBLIC
CREATED:20260423T121434
DESCRIPTION:
LAST-MODIFIED:20260423T121434
LOCATION:
SUMMARY:Choir
URL;VALUE=URI:https://www.centennialbaptistchurch.com/events/choir/2026-10-
 07
END:VEVENT
END:VCALENDAR
