BEGIN:VCALENDAR
VERSION:2.0
PRODID:icalendar-ruby
CALSCALE:GREGORIAN
METHOD:PUBLISH
BEGIN:VEVENT
DTSTAMP:20260423T010324Z
UID:158-860299@centennialbaptistchurch.com
DTSTART:20260917T000000Z
DTEND:20260917T010000Z
CLASS:PUBLIC
CREATED:20260422T180346
DESCRIPTION:
LAST-MODIFIED:20260422T180346
LOCATION:
SUMMARY:Choir
URL;VALUE=URI:https://www.centennialbaptistchurch.com/events/choir/2026-09-
 16
END:VEVENT
END:VCALENDAR
