BEGIN:VCALENDAR
VERSION:2.0
PRODID:icalendar-ruby
CALSCALE:GREGORIAN
METHOD:PUBLISH
BEGIN:VEVENT
DTSTAMP:20260422T233004Z
UID:157-860264@centennialbaptistchurch.com
DTSTART:20260927T223000Z
DTEND:20260927T233000Z
CLASS:PUBLIC
CREATED:20260422T180346
DESCRIPTION:Don't Give the Enemy a Seat at Your Table by Louie Giglio is 
 a 6-session Bible study based on Psalm 23\, focusing on winning the battle
  for your mind by refusing to entertain lies\, fear\, and negativity. It t
 eaches how to break free from destructive thoughts\, take authority over y
 our mental space\, and find peace.
LAST-MODIFIED:20260422T180346
LOCATION:Centennial Baptist Church
SUMMARY:Bible Study 
URL;VALUE=URI:https://www.centennialbaptistchurch.com/events/bible-study--1
 57/2026-09-27
END:VEVENT
END:VCALENDAR
